BEGIN:VCALENDAR
VERSION:2.0
PRODID:-//Langeais - ECPv5.14.1//NONSGML v1.0//EN
CALSCALE:GREGORIAN
METHOD:PUBLISH
X-WR-CALNAME:Langeais
X-ORIGINAL-URL:https://www.langeais.fr
X-WR-CALDESC:évènements pour Langeais
BEGIN:VTIMEZONE
TZID:Europe/Paris
BEGIN:DAYLIGHT
TZOFFSETFROM:+0100
TZOFFSETTO:+0200
TZNAME:CEST
DTSTART:20260329T010000
END:DAYLIGHT
BEGIN:STANDARD
TZOFFSETFROM:+0200
TZOFFSETTO:+0100
TZNAME:CET
DTSTART:20261025T010000
END:STANDARD
END:VTIMEZONE
BEGIN:VEVENT
DTSTART;TZID=Europe/Paris:20260508T130000
DTEND;TZID=Europe/Paris:20260509T210000
DTSTAMP:20260420T064305
CREATED:20260324T150107Z
LAST-MODIFIED:20260416T082622Z
UID:8565-1778245200-1778360400@www.langeais.fr
SUMMARY:Festival Le Chant des Possibles
DESCRIPTION:Le Chant des Possibles revient pour une nouvelle édition ! \n  \nUn festival FAMILIAL\, alliant CONCERTS\, SPECTACLES\, ANIMATIONS autour de l’AGRICULTURE\, de l’ALIMENTATION et de l’ECONOMIE CIRCULAIRE. Idéal pour une\, voire deux\, journée(s) en famille ! \n  \nRetrouvez le programme du festival sur le site de l’événement : https://lamulotiere.fr/chantdespossibles2026/ \n  \n 
URL:https://www.langeais.fr/event/festival-le-chant-des-possibles-2/
ATTACH;FMTTYPE=image/jpeg:https://www.langeais.fr/wp-content/uploads/2026/03/645360511_122272055714069691_2366454016640968460_n.jpeg
END:VEVENT
END:VCALENDAR